Package: seqsetvis Version: 1.27.2 Command: /home/biocbuild/bbs-3.21-bioc/R/bin/R CMD build --keep-empty-dirs --no-resave-data seqsetvis StartedAt: 2025-02-09 19:15:16 -0500 (Sun, 09 Feb 2025) EndedAt: 2025-02-09 19:16:33 -0500 (Sun, 09 Feb 2025) EllapsedTime: 77.1 seconds RetCode: 0 Status: OK PackageFile: seqsetvis_1.27.2.tar.gz PackageFileSize: 2.056 MiB