Package: sesame Version: 1.25.3 Command: /Library/Frameworks/R.framework/Resources/bin/R CMD INSTALL sesame StartedAt: 2025-02-09 15:09:54 -0500 (Sun, 09 Feb 2025) EndedAt: 2025-02-09 15:10:07 -0500 (Sun, 09 Feb 2025) EllapsedTime: 13.3 seconds RetCode: 0 Status: OK