Package: sesame Version: 1.25.3 Command: /Library/Frameworks/R.framework/Resources/bin/R CMD check --install=check:sesame.install-out.txt --library=/Library/Frameworks/R.framework/Resources/library --no-vignettes --timings sesame_1.25.3.tar.gz StartedAt: 2025-02-09 23:35:06 -0500 (Sun, 09 Feb 2025) EndedAt: 2025-02-09 23:48:19 -0500 (Sun, 09 Feb 2025) EllapsedTime: 792.8 seconds RetCode: 0 Status: OK CheckDir: sesame.Rcheck Warnings: 0