Package: sesame Version: 1.25.3 Command: /home/biocbuild/bbs-3.21-bioc/R/bin/R CMD INSTALL sesame StartedAt: 2025-02-09 15:26:44 -0500 (Sun, 09 Feb 2025) EndedAt: 2025-02-09 15:27:18 -0500 (Sun, 09 Feb 2025) EllapsedTime: 34.2 seconds RetCode: 0 Status: OK