Package: sesame Version: 1.25.3 Command: rm -rf sesame.buildbin-libdir && mkdir sesame.buildbin-libdir && E:\biocbuild\bbs-3.21-bioc\R\bin\R.exe CMD INSTALL --build --library=sesame.buildbin-libdir sesame_1.25.3.tar.gz StartedAt: 2025-02-10 08:42:15 -0500 (Mon, 10 Feb 2025) EndedAt: 2025-02-10 08:44:04 -0500 (Mon, 10 Feb 2025) EllapsedTime: 109.0 seconds RetCode: 0 Status: OK PackageFile: sesame_1.25.3.zip PackageFileSize: 16.46 MiB