Package: sesame Version: 1.25.3 Command: chmod a+r sesame -R && E:\biocbuild\bbs-3.21-bioc\R\bin\R.exe CMD build --keep-empty-dirs --no-resave-data sesame StartedAt: 2025-02-09 21:38:02 -0500 (Sun, 09 Feb 2025) EndedAt: 2025-02-09 21:45:14 -0500 (Sun, 09 Feb 2025) EllapsedTime: 432.6 seconds RetCode: 0 Status: OK PackageFile: sesame_1.25.3.tar.gz PackageFileSize: 15.86 MiB