Package: sesame Version: 1.25.3 Command: E:\biocbuild\bbs-3.21-bioc\R\bin\R.exe CMD INSTALL sesame StartedAt: 2025-02-09 16:10:46 -0500 (Sun, 09 Feb 2025) EndedAt: 2025-02-09 16:11:54 -0500 (Sun, 09 Feb 2025) EllapsedTime: 67.9 seconds RetCode: 0 Status: OK