Package: sevenC Version: 1.27.0 Command: rm -rf sevenC.buildbin-libdir && mkdir sevenC.buildbin-libdir && /Users/biocbuild/BBS/utils/build-universal.sh sevenC_1.27.0.tar.gz /Library/Frameworks/R.framework/Resources/bin/R sevenC.buildbin-libdir StartedAt: 2025-02-03 23:06:33 -0500 (Mon, 03 Feb 2025) EndedAt: 2025-02-03 23:06:43 -0500 (Mon, 03 Feb 2025) EllapsedTime: 10.2 seconds RetCode: 0 Status: OK PackageFile: sevenC_1.27.0.tgz PackageFileSize: 2.042 MiB