Package: sevenC Version: 1.27.0 Command: /Library/Frameworks/R.framework/Resources/bin/R CMD check --install=check:sevenC.install-out.txt --library=/Library/Frameworks/R.framework/Resources/library --no-vignettes --timings sevenC_1.27.0.tar.gz StartedAt: 2025-02-09 21:20:45 -0500 (Sun, 09 Feb 2025) EndedAt: 2025-02-09 21:22:04 -0500 (Sun, 09 Feb 2025) EllapsedTime: 79.0 seconds RetCode: 0 Status: OK CheckDir: sevenC.Rcheck Warnings: 0