Package: sevenC Version: 1.27.0 Command: /Library/Frameworks/R.framework/Resources/bin/R CMD INSTALL sevenC StartedAt: 2025-02-09 15:08:41 -0500 (Sun, 09 Feb 2025) EndedAt: 2025-02-09 15:08:50 -0500 (Sun, 09 Feb 2025) EllapsedTime: 9.6 seconds RetCode: 0 Status: OK