Package: sevenC Version: 1.27.0 Command: /home/biocbuild/R/R/bin/R CMD build --keep-empty-dirs --no-resave-data sevenC StartedAt: 2025-01-29 02:19:27 -0000 (Wed, 29 Jan 2025) EndedAt: 2025-01-29 02:20:55 -0000 (Wed, 29 Jan 2025) EllapsedTime: 88.1 seconds RetCode: 0 Status: OK PackageFile: sevenC_1.27.0.tar.gz PackageFileSize: 1.993 MiB