Package: sevenC Version: 1.27.0 Command: rm -rf sevenC.buildbin-libdir && mkdir sevenC.buildbin-libdir && /Users/biocbuild/BBS/utils/build-universal.sh sevenC_1.27.0.tar.gz /Library/Frameworks/R.framework/Resources/bin/R sevenC.buildbin-libdir StartedAt: 2025-02-10 01:16:23 -0500 (Mon, 10 Feb 2025) EndedAt: 2025-02-10 01:16:57 -0500 (Mon, 10 Feb 2025) EllapsedTime: 34.4 seconds RetCode: 0 Status: OK PackageFile: sevenC_1.27.0.tgz PackageFileSize: 2.041 MiB