Package: sevenC Version: 1.27.0 Command: /home/biocbuild/bbs-3.21-bioc/R/bin/R CMD build --keep-empty-dirs --no-resave-data sevenC StartedAt: 2025-02-04 19:13:20 -0500 (Tue, 04 Feb 2025) EndedAt: 2025-02-04 19:14:41 -0500 (Tue, 04 Feb 2025) EllapsedTime: 81.1 seconds RetCode: 0 Status: OK PackageFile: sevenC_1.27.0.tar.gz PackageFileSize: 1.954 MiB