Package: sevenC Version: 1.27.0 Command: /home/biocbuild/bbs-3.21-bioc/R/bin/R CMD check --install=check:sevenC.install-out.txt --library=/home/biocbuild/bbs-3.21-bioc/R/site-library --timings sevenC_1.27.0.tar.gz StartedAt: 2025-02-05 02:43:55 -0500 (Wed, 05 Feb 2025) EndedAt: 2025-02-05 02:48:21 -0500 (Wed, 05 Feb 2025) EllapsedTime: 266.4 seconds RetCode: 0 Status: OK CheckDir: sevenC.Rcheck Warnings: 0