Package: sevenC Version: 1.27.0 Command: /home/biocbuild/bbs-3.21-bioc/R/bin/R CMD INSTALL sevenC StartedAt: 2025-02-09 15:26:46 -0500 (Sun, 09 Feb 2025) EndedAt: 2025-02-09 15:27:10 -0500 (Sun, 09 Feb 2025) EllapsedTime: 23.1 seconds RetCode: 0 Status: OK