Package: sevenC Version: 1.27.0 Command: E:\biocbuild\bbs-3.21-bioc\R\bin\R.exe CMD check --no-multiarch --install=check:sevenC.install-out.txt --library=E:\biocbuild\bbs-3.21-bioc\R\library --no-vignettes --timings sevenC_1.27.0.tar.gz StartedAt: 2025-02-10 05:24:46 -0500 (Mon, 10 Feb 2025) EndedAt: 2025-02-10 05:28:55 -0500 (Mon, 10 Feb 2025) EllapsedTime: 248.2 seconds RetCode: 0 Status: OK CheckDir: sevenC.Rcheck Warnings: 0