Package: sevenbridges Version: 1.37.0 Command: /Library/Frameworks/R.framework/Resources/bin/R CMD build --keep-empty-dirs --no-resave-data sevenbridges StartedAt: 2025-02-03 18:12:46 -0500 (Mon, 03 Feb 2025) EndedAt: 2025-02-03 18:13:22 -0500 (Mon, 03 Feb 2025) EllapsedTime: 36.4 seconds RetCode: 0 Status: OK PackageFile: sevenbridges_1.37.0.tar.gz PackageFileSize: 4.659 MiB