Package: sevenbridges Version: 1.37.0 Command: /Library/Frameworks/R.framework/Resources/bin/R CMD check --install=check:sevenbridges.install-out.txt --library=/Library/Frameworks/R.framework/Resources/library --no-vignettes --timings sevenbridges_1.37.0.tar.gz StartedAt: 2025-02-09 21:20:43 -0500 (Sun, 09 Feb 2025) EndedAt: 2025-02-09 21:21:36 -0500 (Sun, 09 Feb 2025) EllapsedTime: 52.7 seconds RetCode: 0 Status: OK CheckDir: sevenbridges.Rcheck Warnings: 0