Package: sevenbridges Version: 1.37.0 Command: /Library/Frameworks/R.framework/Resources/bin/R CMD INSTALL sevenbridges StartedAt: 2025-02-09 15:03:44 -0500 (Sun, 09 Feb 2025) EndedAt: 2025-02-09 15:03:53 -0500 (Sun, 09 Feb 2025) EllapsedTime: 8.6 seconds RetCode: 0 Status: OK