Package: sevenbridges Version: 1.37.0 Command: rm -rf sevenbridges.buildbin-libdir && mkdir sevenbridges.buildbin-libdir && /Users/biocbuild/BBS/utils/build-universal.sh sevenbridges_1.37.0.tar.gz /Library/Frameworks/R.framework/Resources/bin/R sevenbridges.buildbin-libdir StartedAt: 2025-02-04 00:56:24 -0500 (Tue, 04 Feb 2025) EndedAt: 2025-02-04 00:57:05 -0500 (Tue, 04 Feb 2025) EllapsedTime: 40.4 seconds RetCode: 0 Status: OK PackageFile: sevenbridges_1.37.0.tgz PackageFileSize: 5.771 MiB