Package: sevenbridges Version: 1.37.0 Command: /Library/Frameworks/R.framework/Resources/bin/R CMD build --keep-empty-dirs --no-resave-data sevenbridges StartedAt: 2025-02-09 18:27:19 -0500 (Sun, 09 Feb 2025) EndedAt: 2025-02-09 18:29:30 -0500 (Sun, 09 Feb 2025) EllapsedTime: 130.2 seconds RetCode: 0 Status: OK PackageFile: sevenbridges_1.37.0.tar.gz PackageFileSize: 4.656 MiB