Package: sevenbridges Version: 1.37.0 Command: /Library/Frameworks/R.framework/Resources/bin/R CMD check --install=check:sevenbridges.install-out.txt --library=/Library/Frameworks/R.framework/Resources/library --no-vignettes --timings sevenbridges_1.37.0.tar.gz StartedAt: 2025-02-03 23:18:47 -0500 (Mon, 03 Feb 2025) EndedAt: 2025-02-03 23:21:40 -0500 (Mon, 03 Feb 2025) EllapsedTime: 173.5 seconds RetCode: 0 Status: OK CheckDir: sevenbridges.Rcheck Warnings: 0