Package: sevenbridges Version: 1.37.0 Command: /home/biocbuild/bbs-3.21-bioc/R/bin/R CMD build --keep-empty-dirs --no-resave-data sevenbridges StartedAt: 2025-02-03 19:24:16 -0500 (Mon, 03 Feb 2025) EndedAt: 2025-02-03 19:25:37 -0500 (Mon, 03 Feb 2025) EllapsedTime: 81.1 seconds RetCode: 0 Status: OK PackageFile: sevenbridges_1.37.0.tar.gz PackageFileSize: 4.656 MiB