Package: sevenbridges Version: 1.37.0 Command: /home/biocbuild/bbs-3.21-bioc/R/bin/R CMD INSTALL sevenbridges StartedAt: 2025-02-09 15:13:00 -0500 (Sun, 09 Feb 2025) EndedAt: 2025-02-09 15:13:24 -0500 (Sun, 09 Feb 2025) EllapsedTime: 24.1 seconds RetCode: 0 Status: OK