Package: sevenbridges Version: 1.37.0 Command: rm -rf sevenbridges.buildbin-libdir && mkdir sevenbridges.buildbin-libdir && E:\biocbuild\bbs-3.21-bioc\R\bin\R.exe CMD INSTALL --build --library=sevenbridges.buildbin-libdir sevenbridges_1.37.0.tar.gz StartedAt: 2025-02-04 08:55:26 -0500 (Tue, 04 Feb 2025) EndedAt: 2025-02-04 09:00:08 -0500 (Tue, 04 Feb 2025) EllapsedTime: 281.5 seconds RetCode: 0 Status: OK PackageFile: sevenbridges_1.37.0.zip PackageFileSize: 5.808 MiB