Package: sevenbridges Version: 1.37.0 Command: chmod a+r sevenbridges -R && E:\biocbuild\bbs-3.21-bioc\R\bin\R.exe CMD build --keep-empty-dirs --no-resave-data sevenbridges StartedAt: 2025-02-09 21:38:43 -0500 (Sun, 09 Feb 2025) EndedAt: 2025-02-09 21:44:02 -0500 (Sun, 09 Feb 2025) EllapsedTime: 319.1 seconds RetCode: 0 Status: OK PackageFile: sevenbridges_1.37.0.tar.gz PackageFileSize: 4.659 MiB