Package: sevenbridges Version: 1.37.0 Command: E:\biocbuild\bbs-3.21-bioc\R\bin\R.exe CMD check --no-multiarch --install=check:sevenbridges.install-out.txt --library=E:\biocbuild\bbs-3.21-bioc\R\library --no-vignettes --timings sevenbridges_1.37.0.tar.gz StartedAt: 2025-02-10 05:24:29 -0500 (Mon, 10 Feb 2025) EndedAt: 2025-02-10 05:28:04 -0500 (Mon, 10 Feb 2025) EllapsedTime: 214.8 seconds RetCode: 0 Status: OK CheckDir: sevenbridges.Rcheck Warnings: 0