Package: sevenbridges Version: 1.37.0 Command: E:\biocbuild\bbs-3.21-bioc\R\bin\R.exe CMD INSTALL sevenbridges StartedAt: 2025-02-03 15:42:29 -0500 (Mon, 03 Feb 2025) EndedAt: 2025-02-03 15:46:12 -0500 (Mon, 03 Feb 2025) EllapsedTime: 223.1 seconds RetCode: 0 Status: OK