Package: shiny.gosling Version: 1.3.0 Command: /Library/Frameworks/R.framework/Resources/bin/R CMD check --install=check:shiny.gosling.install-out.txt --library=/Library/Frameworks/R.framework/Resources/library --no-vignettes --timings shiny.gosling_1.3.0.tar.gz StartedAt: 2025-02-09 21:21:12 -0500 (Sun, 09 Feb 2025) EndedAt: 2025-02-09 21:21:27 -0500 (Sun, 09 Feb 2025) EllapsedTime: 15.2 seconds RetCode: 0 Status: OK CheckDir: shiny.gosling.Rcheck Warnings: 0