Package: shiny.gosling Version: 1.3.0 Command: /Library/Frameworks/R.framework/Resources/bin/R CMD INSTALL shiny.gosling StartedAt: 2025-02-04 15:15:45 -0500 (Tue, 04 Feb 2025) EndedAt: 2025-02-04 15:15:48 -0500 (Tue, 04 Feb 2025) EllapsedTime: 3.0 seconds RetCode: 0 Status: OK