Package: shiny.gosling Version: 1.3.0 Command: /home/biocbuild/R/R/bin/R CMD build --keep-empty-dirs --no-resave-data shiny.gosling StartedAt: 2025-01-29 02:20:11 -0000 (Wed, 29 Jan 2025) EndedAt: 2025-01-29 02:20:54 -0000 (Wed, 29 Jan 2025) EllapsedTime: 43.0 seconds RetCode: 0 Status: OK PackageFile: shiny.gosling_1.3.0.tar.gz PackageFileSize: 1.718 MiB