Package: shiny.gosling Version: 1.3.0 Command: /Library/Frameworks/R.framework/Resources/bin/R CMD build --keep-empty-dirs --no-resave-data shiny.gosling StartedAt: 2025-02-04 18:19:09 -0500 (Tue, 04 Feb 2025) EndedAt: 2025-02-04 18:19:48 -0500 (Tue, 04 Feb 2025) EllapsedTime: 38.9 seconds RetCode: 0 Status: OK PackageFile: shiny.gosling_1.3.0.tar.gz PackageFileSize: 1.715 MiB