Package: shiny.gosling Version: 1.3.0 Command: /Library/Frameworks/R.framework/Resources/bin/R CMD check --install=check:shiny.gosling.install-out.txt --library=/Library/Frameworks/R.framework/Resources/library --no-vignettes --timings shiny.gosling_1.3.0.tar.gz StartedAt: 2025-02-04 23:18:03 -0500 (Tue, 04 Feb 2025) EndedAt: 2025-02-04 23:18:45 -0500 (Tue, 04 Feb 2025) EllapsedTime: 42.6 seconds RetCode: 0 Status: OK CheckDir: shiny.gosling.Rcheck Warnings: 0