Package: shiny.gosling Version: 1.3.0 Command: /home/biocbuild/bbs-3.21-bioc/R/bin/R CMD build --keep-empty-dirs --no-resave-data shiny.gosling StartedAt: 2025-02-04 19:13:54 -0500 (Tue, 04 Feb 2025) EndedAt: 2025-02-04 19:14:23 -0500 (Tue, 04 Feb 2025) EllapsedTime: 29.0 seconds RetCode: 0 Status: OK PackageFile: shiny.gosling_1.3.0.tar.gz PackageFileSize: 1.715 MiB