Package: shiny.gosling Version: 1.3.0 Command: /home/biocbuild/bbs-3.21-bioc/R/bin/R CMD check --install=check:shiny.gosling.install-out.txt --library=/home/biocbuild/bbs-3.21-bioc/R/site-library --timings shiny.gosling_1.3.0.tar.gz StartedAt: 2025-02-10 02:37:49 -0500 (Mon, 10 Feb 2025) EndedAt: 2025-02-10 02:38:48 -0500 (Mon, 10 Feb 2025) EllapsedTime: 59.1 seconds RetCode: 0 Status: OK CheckDir: shiny.gosling.Rcheck Warnings: 0