Package: shiny.gosling Version: 1.3.0 Command: rm -rf shiny.gosling.buildbin-libdir && mkdir shiny.gosling.buildbin-libdir && E:\biocbuild\bbs-3.21-bioc\R\bin\R.exe CMD INSTALL --build --library=shiny.gosling.buildbin-libdir shiny.gosling_1.3.0.tar.gz StartedAt: 2025-02-05 08:54:45 -0500 (Wed, 05 Feb 2025) EndedAt: 2025-02-05 08:56:38 -0500 (Wed, 05 Feb 2025) EllapsedTime: 112.9 seconds RetCode: 0 Status: OK PackageFile: shiny.gosling_1.3.0.zip PackageFileSize: 1.108 MiB