Package: shiny.gosling Version: 1.3.0 Command: chmod a+r shiny.gosling -R && E:\biocbuild\bbs-3.21-bioc\R\bin\R.exe CMD build --keep-empty-dirs --no-resave-data shiny.gosling StartedAt: 2025-02-09 21:39:23 -0500 (Sun, 09 Feb 2025) EndedAt: 2025-02-09 21:40:50 -0500 (Sun, 09 Feb 2025) EllapsedTime: 86.9 seconds RetCode: 0 Status: OK PackageFile: shiny.gosling_1.3.0.tar.gz PackageFileSize: 1.716 MiB