Package: shinyMethyl Version: 1.43.0 Command: rm -rf shinyMethyl.buildbin-libdir && mkdir shinyMethyl.buildbin-libdir && /Users/biocbuild/BBS/utils/build-universal.sh shinyMethyl_1.43.0.tar.gz /Library/Frameworks/R.framework/Resources/bin/R shinyMethyl.buildbin-libdir StartedAt: 2025-02-09 22:30:58 -0500 (Sun, 09 Feb 2025) EndedAt: 2025-02-09 22:31:18 -0500 (Sun, 09 Feb 2025) EllapsedTime: 20.5 seconds RetCode: 0 Status: OK PackageFile: shinyMethyl_1.43.0.tgz PackageFileSize: 2.43 MiB