Package: shinyMethyl Version: 1.43.0 Command: /Library/Frameworks/R.framework/Resources/bin/R CMD build --keep-empty-dirs --no-resave-data shinyMethyl StartedAt: 2025-02-09 18:28:02 -0500 (Sun, 09 Feb 2025) EndedAt: 2025-02-09 18:29:23 -0500 (Sun, 09 Feb 2025) EllapsedTime: 81.2 seconds RetCode: 0 Status: OK PackageFile: shinyMethyl_1.43.0.tar.gz PackageFileSize: 7.24 MiB