Package: shinyMethyl Version: 1.43.0 Command: /Library/Frameworks/R.framework/Resources/bin/R CMD check --install=check:shinyMethyl.install-out.txt --library=/Library/Frameworks/R.framework/Resources/library --no-vignettes --timings shinyMethyl_1.43.0.tar.gz StartedAt: 2025-02-09 23:37:23 -0500 (Sun, 09 Feb 2025) EndedAt: 2025-02-09 23:43:59 -0500 (Sun, 09 Feb 2025) EllapsedTime: 396.3 seconds RetCode: 0 Status: OK CheckDir: shinyMethyl.Rcheck Warnings: 0