Package: shinyMethyl Version: 1.43.0 Command: /home/biocbuild/bbs-3.21-bioc/R/bin/R CMD build --keep-empty-dirs --no-resave-data shinyMethyl StartedAt: 2025-02-09 19:16:23 -0500 (Sun, 09 Feb 2025) EndedAt: 2025-02-09 19:17:32 -0500 (Sun, 09 Feb 2025) EllapsedTime: 69.1 seconds RetCode: 0 Status: OK PackageFile: shinyMethyl_1.43.0.tar.gz PackageFileSize: 7.24 MiB