Package: shinyMethyl Version: 1.43.0 Command: /home/biocbuild/bbs-3.21-bioc/R/bin/R CMD INSTALL shinyMethyl StartedAt: 2025-02-09 15:41:37 -0500 (Sun, 09 Feb 2025) EndedAt: 2025-02-09 15:42:23 -0500 (Sun, 09 Feb 2025) EllapsedTime: 46.2 seconds RetCode: 0 Status: OK