Package: shinyMethyl Version: 1.43.0 Command: E:\biocbuild\bbs-3.21-bioc\R\bin\R.exe CMD check --no-multiarch --install=check:shinyMethyl.install-out.txt --library=E:\biocbuild\bbs-3.21-bioc\R\library --no-vignettes --timings shinyMethyl_1.43.0.tar.gz StartedAt: 2025-02-10 05:25:58 -0500 (Mon, 10 Feb 2025) EndedAt: 2025-02-10 05:33:05 -0500 (Mon, 10 Feb 2025) EllapsedTime: 426.5 seconds RetCode: 0 Status: OK CheckDir: shinyMethyl.Rcheck Warnings: 0