Package: shinyMethyl Version: 1.43.0 Command: E:\biocbuild\bbs-3.21-bioc\R\bin\R.exe CMD INSTALL shinyMethyl StartedAt: 2025-02-09 16:59:28 -0500 (Sun, 09 Feb 2025) EndedAt: 2025-02-09 17:00:25 -0500 (Sun, 09 Feb 2025) EllapsedTime: 57.4 seconds RetCode: 0 Status: OK