Package: sights Version: 1.33.0 Command: rm -rf sights.buildbin-libdir && mkdir sights.buildbin-libdir && /Users/biocbuild/BBS/utils/build-universal.sh sights_1.33.0.tar.gz /Library/Frameworks/R.framework/Resources/bin/R sights.buildbin-libdir StartedAt: 2025-02-09 22:31:03 -0500 (Sun, 09 Feb 2025) EndedAt: 2025-02-09 22:31:06 -0500 (Sun, 09 Feb 2025) EllapsedTime: 3.0 seconds RetCode: 0 Status: OK PackageFile: sights_1.33.0.tgz PackageFileSize: 3.664 MiB