Package: sights Version: 1.33.0 Command: /Library/Frameworks/R.framework/Resources/bin/R CMD build --keep-empty-dirs --no-resave-data sights StartedAt: 2025-02-12 17:37:31 -0500 (Wed, 12 Feb 2025) EndedAt: 2025-02-12 17:37:43 -0500 (Wed, 12 Feb 2025) EllapsedTime: 12.1 seconds RetCode: 0 Status: OK PackageFile: sights_1.33.0.tar.gz PackageFileSize: 5.809 MiB