Package: sights Version: 1.33.0 Command: rm -rf sights.buildbin-libdir && mkdir sights.buildbin-libdir && /Users/biocbuild/BBS/utils/build-universal.sh sights_1.33.0.tar.gz /Library/Frameworks/R.framework/Resources/bin/R sights.buildbin-libdir StartedAt: 2025-02-10 01:16:48 -0500 (Mon, 10 Feb 2025) EndedAt: 2025-02-10 01:16:58 -0500 (Mon, 10 Feb 2025) EllapsedTime: 10.3 seconds RetCode: 0 Status: OK PackageFile: sights_1.33.0.tgz PackageFileSize: 3.66 MiB