Package: sights Version: 1.33.0 Command: /Library/Frameworks/R.framework/Resources/bin/R CMD build --keep-empty-dirs --no-resave-data sights StartedAt: 2025-02-09 18:28:21 -0500 (Sun, 09 Feb 2025) EndedAt: 2025-02-09 18:29:01 -0500 (Sun, 09 Feb 2025) EllapsedTime: 40.0 seconds RetCode: 0 Status: OK PackageFile: sights_1.33.0.tar.gz PackageFileSize: 5.805 MiB