Package: sights Version: 1.33.0 Command: chmod a+r sights -R && E:\biocbuild\bbs-3.21-bioc\R\bin\R.exe CMD build --keep-empty-dirs --no-resave-data sights StartedAt: 2025-02-09 21:40:37 -0500 (Sun, 09 Feb 2025) EndedAt: 2025-02-09 21:41:36 -0500 (Sun, 09 Feb 2025) EllapsedTime: 59.3 seconds RetCode: 0 Status: OK PackageFile: sights_1.33.0.tar.gz PackageFileSize: 3.372 MiB