Package: signifinder Version: 1.9.3 Command: rm -rf signifinder.buildbin-libdir && mkdir signifinder.buildbin-libdir && /Users/biocbuild/BBS/utils/build-universal.sh signifinder_1.9.3.tar.gz /Library/Frameworks/R.framework/Resources/bin/R signifinder.buildbin-libdir StartedAt: 2025-02-09 22:31:07 -0500 (Sun, 09 Feb 2025) EndedAt: 2025-02-09 22:31:31 -0500 (Sun, 09 Feb 2025) EllapsedTime: 24.5 seconds RetCode: 0 Status: OK PackageFile: signifinder_1.9.3.tgz PackageFileSize: 7.667 MiB